BEGIN:VCALENDAR
VERSION:2.0
PRODID:-//The Best Restaurant &amp; Wine Cellar Westlands, Nairobi
CALSCALE:GREGORIAN
METHOD:PUBLISH
X-WR-CALNAME:The Best Restaurant &amp; Wine Cellar Westlands, Nairobi
X-ORIGINAL-URL:https://chateau254.co.ke/product/live-band-entertainment-2/
X-WR-CALDESC:Live Band Entertainment
BEGIN:VEVENT
DTSTART;TZID=Europe/London:20250131T180000
DTEND;TZID=Europe/London:20250201T000000
SUMMARY:Live Band Entertainment
DESCRIPTION:
URL:https://chateau254.co.ke/product/live-band-entertainment-2/
LOCATION:The Promenade
END:VEVENT
END:VCALENDAR
