BEGIN:VCALENDAR
VERSION:2.0
PRODID:-//The Best Restaurant &amp; Wine Cellar Westlands, Nairobi
CALSCALE:GREGORIAN
METHOD:PUBLISH
X-WR-CALNAME:The Best Restaurant &amp; Wine Cellar Westlands, Nairobi
X-ORIGINAL-URL:https://chateau254.co.ke/product/wine-and-menu-tasting/
X-WR-CALDESC:Wine and Menu tasting
BEGIN:VEVENT
DTSTART;TZID=Europe/London:20250130T180000
DTEND;TZID=Europe/London:20250130T000000
SUMMARY:Wine and Menu tasting
DESCRIPTION:
URL:https://chateau254.co.ke/product/wine-and-menu-tasting/
LOCATION:
END:VEVENT
END:VCALENDAR
